BEGIN:VCALENDAR
VERSION:2.0
PRODID:-//hacksw/handcal//NONSGML v1.0//EN
CALSCALE:GREGORIAN
BEGIN:VEVENT
LOCATION:CORE 3B (cuisine)
DESCRIPTION: // Plus d'informations : https://idigh.ca/fr/evenements/info/activites-sociales/celebration-des-fetes-idigh-2024
DTSTART:20241212T180000Z
DTEND:20241212T200000Z
SUMMARY:IDIGH (Activités sociales) - Célébration des fêtes IDIGH 2024
URL;VALUE=URI:https://idigh.ca/fr/evenements/info/activites-sociales/celebration-des-fetes-idigh-2024
DTSTAMP:20260422T064701Z
UID:69e8a7250b707
END:VEVENT
END:VCALENDAR