BEGIN:VCALENDAR
VERSION:2.0
PRODID:-//hacksw/handcal//NONSGML v1.0//EN
CALSCALE:GREGORIAN
BEGIN:VEVENT
LOCATION:CORE 3B (Kitchen)
DESCRIPTION: // More information: https://idigh.ca/en/events/info/social-events/idigh-holiday-event-2024
DTSTART:20241212T180000Z
DTEND:20241212T200000Z
SUMMARY:IDIGH (Social Events) - IDIGH Holiday Event 2024
URL;VALUE=URI:https://idigh.ca/en/events/info/social-events/idigh-holiday-event-2024
DTSTAMP:20260421T055743Z
UID:69e74a17ddda3
END:VEVENT
END:VCALENDAR