BEGIN:VCALENDAR
VERSION:2.0
PRODID:-//hacksw/handcal//NONSGML v1.0//EN
CALSCALE:GREGORIAN
BEGIN:VEVENT
LOCATION:D02.1312 and online
DESCRIPTION:Deprescribing: From Evidence to Implementation // More information: https://idigh.ca/en/events/info/trainee-and-staff-seminar-series/trainee-staff-seminar-series-2025-04-03
DTSTART:20250403T160000Z
DTEND:20250403T170000Z
SUMMARY:IDIGH (Trainee and Staff Seminar Series) - Trainee & Staff Seminar Series
URL;VALUE=URI:https://idigh.ca/en/events/info/trainee-and-staff-seminar-series/trainee-staff-seminar-series-2025-04-03
DTSTAMP:20260421T055650Z
UID:69e749e2a80cf
END:VEVENT
END:VCALENDAR