BEGIN:VCALENDAR
VERSION:2.0
PRODID:-//hacksw/handcal//NONSGML v1.0//EN
CALSCALE:GREGORIAN
BEGIN:VEVENT
LOCATION:EM1.3509
DESCRIPTION:Self-reactive T cells: many shades of gray // Plus d'informations : https://idigh.ca/fr/evenements/info/seminaires-idigh/dre-heather-melichar
DTSTART:20180314T160000Z
DTEND:20180314T170000Z
SUMMARY:IDIGH (Séminaires IDIGH) - Dre Heather Melichar
URL;VALUE=URI:https://idigh.ca/fr/evenements/info/seminaires-idigh/dre-heather-melichar
DTSTAMP:20260421T062045Z
UID:69e74f7dba058
END:VEVENT
END:VCALENDAR