BEGIN:VCALENDAR
VERSION:2.0
PRODID:-//hacksw/handcal//NONSGML v1.0//EN
CALSCALE:GREGORIAN
BEGIN:VEVENT
LOCATION:EM1.3509 et en ligne
DESCRIPTION:Découvrir de nouvelles thérapies : stratégies de découverte de médicaments pour les infections mycobactériennes // Plus d'informations : https://idigh.ca/fr/evenements/info/seminaires-idigh/andreanne-lupien
DTSTART:20230222T170000Z
DTEND:20230222T180000Z
SUMMARY:IDIGH (Séminaires IDIGH) - Andréanne Lupien
URL;VALUE=URI:https://idigh.ca/fr/evenements/info/seminaires-idigh/andreanne-lupien
DTSTAMP:20260421T052645Z
UID:69e742d55d583
END:VEVENT
END:VCALENDAR