BEGIN:VCALENDAR
VERSION:2.0
PRODID:-//hacksw/handcal//NONSGML v1.0//EN
CALSCALE:GREGORIAN
BEGIN:VEVENT
LOCATION:EM1.3509
DESCRIPTION:High-throughput post-genomic approaches to study protozoan parasites // More information: https://idigh.ca/en/events/info/idigh-seminars/dr-christopher-fernandez-prada
DTSTART:20180117T170000Z
DTEND:20180117T180000Z
SUMMARY:IDIGH (IDIGH Seminars) - Dr. Christopher Fernandez-Prada
URL;VALUE=URI:https://idigh.ca/en/events/info/idigh-seminars/dr-christopher-fernandez-prada
DTSTAMP:20260421T061427Z
UID:69e74e0320391
END:VEVENT
END:VCALENDAR