BEGIN:VCALENDAR
VERSION:2.0
PRODID:-//hacksw/handcal//NONSGML v1.0//EN
CALSCALE:GREGORIAN
BEGIN:VEVENT
LOCATION:EM1.3509 et en ligne
DESCRIPTION:Modéliser le développement des lymphocytes T régulateurs in vitro avec des organoïdes de thymus artificiels // Plus d'informations : https://idigh.ca/fr/evenements/info/seminaires-des-stagiaires-et-professionnels/zhiyang-liu-2023
DTSTART:20230419T160000Z
DTEND:20230419T170000Z
SUMMARY:IDIGH (Séminaires des stagiaires et professionnels) - Zhiyang Liu
URL;VALUE=URI:https://idigh.ca/fr/evenements/info/seminaires-des-stagiaires-et-professionnels/zhiyang-liu-2023
DTSTAMP:20260419T125540Z
UID:69e5090c4460f
END:VEVENT
END:VCALENDAR