BEGIN:VCALENDAR
VERSION:2.0
PRODID:-//hacksw/handcal//NONSGML v1.0//EN
CALSCALE:GREGORIAN
BEGIN:VEVENT
LOCATION:EM1.3509 and online
DESCRIPTION:Influence of Gut Permeability on COVID-19 Manifestations // More information: https://idigh.ca/en/events/info/trainee-and-staff-seminar-series/lisa-bu
DTSTART:20230517T160000Z
DTEND:20230517T170000Z
SUMMARY:IDIGH (Trainee and Staff Seminar Series) - Lisa Bu
URL;VALUE=URI:https://idigh.ca/en/events/info/trainee-and-staff-seminar-series/lisa-bu
DTSTAMP:20260421T044950Z
UID:69e73a2eb67be
END:VEVENT
END:VCALENDAR