BEGIN:VCALENDAR
VERSION:2.0
PRODID:-//hacksw/handcal//NONSGML v1.0//EN
CALSCALE:GREGORIAN
BEGIN:VEVENT
LOCATION:EM1.3509 and online
DESCRIPTION:Modeling of Thymic Regulatory T cell Development In Vitro Using Artificial Thymic Organoid Systems // More information: https://idigh.ca/en/events/info/trainee-and-staff-seminar-series/zhiyang-liu-2023
DTSTART:20230419T160000Z
DTEND:20230419T170000Z
SUMMARY:IDIGH (Trainee and Staff Seminar Series) - Zhiyang Liu
URL;VALUE=URI:https://idigh.ca/en/events/info/trainee-and-staff-seminar-series/zhiyang-liu-2023
DTSTAMP:20260419T144515Z
UID:69e522bbb038d
END:VEVENT
END:VCALENDAR