BEGIN:VCALENDAR
VERSION:2.0
PRODID:-//hacksw/handcal//NONSGML v1.0//EN
CALSCALE:GREGORIAN
BEGIN:VEVENT
LOCATION:EM1.3509 et en ligne
DESCRIPTION:L'édition génomique de pécision pour étudier la fonction des gènes\, la variation génétique humaine et le développement de médicaments // Plus d'informations : https://idigh.ca/fr/evenements/info/seminaires-idigh/raquel-cuella-martin
DTSTART:20230118T170000Z
DTEND:20230118T180000Z
SUMMARY:IDIGH (Séminaires IDIGH) - Raquel Cuella Martin
URL;VALUE=URI:https://idigh.ca/fr/evenements/info/seminaires-idigh/raquel-cuella-martin
DTSTAMP:20260421T043629Z
UID:69e7370d238ea
END:VEVENT
END:VCALENDAR