BEGIN:VCALENDAR
VERSION:2.0
PRODID:-//hacksw/handcal//NONSGML v1.0//EN
CALSCALE:GREGORIAN
BEGIN:VEVENT
LOCATION:EM1.3509 et en ligne
DESCRIPTION:COVID-19 in South Africa // Plus d'informations : https://idigh.ca/fr/evenements/info/seminaires-idigh/glenda-gray
DTSTART:20220803T160000Z
DTEND:20220803T170000Z
SUMMARY:IDIGH (Séminaires IDIGH) - Glenda Gray
URL;VALUE=URI:https://idigh.ca/fr/evenements/info/seminaires-idigh/glenda-gray
DTSTAMP:20260421T044950Z
UID:69e73a2eab078
END:VEVENT
END:VCALENDAR