BEGIN:VCALENDAR
VERSION:2.0
PRODID:-//hacksw/handcal//NONSGML v1.0//EN
CALSCALE:GREGORIAN
BEGIN:VEVENT
LOCATION:EM1.3509 and online
DESCRIPTION:COVID-19 in South Africa // More information: https://idigh.ca/en/events/info/idigh-seminars/glenda-gray
DTSTART:20220803T160000Z
DTEND:20220803T170000Z
SUMMARY:IDIGH (IDIGH Seminars) - Glenda Gray
URL;VALUE=URI:https://idigh.ca/en/events/info/idigh-seminars/glenda-gray
DTSTAMP:20260419T085646Z
UID:69e4d10e19ee1
END:VEVENT
END:VCALENDAR