BEGIN:VCALENDAR
VERSION:2.0
PRODID:-//hacksw/handcal//NONSGML v1.0//EN
CALSCALE:GREGORIAN
BEGIN:VEVENT
LOCATION:En ligne
DESCRIPTION:Lifestyle and pharmacologic interventions for Metabolic-associated Fatty Liver Disease // Plus d'informations : https://idigh.ca/fr/evenements/info/seminaires-idigh/dre-giada-sebastiani-2022
DTSTART:20220330T160000Z
DTEND:20220330T170000Z
SUMMARY:IDIGH (Séminaires IDIGH) - Dre Giada Sebastiani
URL;VALUE=URI:https://idigh.ca/fr/evenements/info/seminaires-idigh/dre-giada-sebastiani-2022
DTSTAMP:20260421T044930Z
UID:69e73a1a0fa76
END:VEVENT
END:VCALENDAR