BEGIN:VCALENDAR
VERSION:2.0
PRODID:-//hacksw/handcal//NONSGML v1.0//EN
CALSCALE:GREGORIAN
BEGIN:VEVENT
LOCATION:Amphithéâtre Drs Sylvia et Richard Cruess (ES1.1129)
DESCRIPTION: // Plus d'informations : https://idigh.ca/fr/evenements/info/evenements-scientifiques/symposium-idigh-2019
DTSTART:20191004T140000Z
DTEND:20220101T230000Z
SUMMARY:IDIGH (Événements scientifiques) - Symposium IDIGH 2019 
URL;VALUE=URI:https://idigh.ca/fr/evenements/info/evenements-scientifiques/symposium-idigh-2019
DTSTAMP:20260421T061723Z
UID:69e74eb371465
END:VEVENT
END:VCALENDAR