BEGIN:VCALENDAR
VERSION:2.0
PRODID:-//hacksw/handcal//NONSGML v1.0//EN
CALSCALE:GREGORIAN
BEGIN:VEVENT
LOCATION:Drs. Sylvia and Richard Cruess Amphitheatre (ES1.1129)
DESCRIPTION: // More information: https://idigh.ca/en/events/info/scientific-events/idigh-symposium-2019
DTSTART:20191004T140000Z
DTEND:20220101T230000Z
SUMMARY:IDIGH (Scientific Events) - IDIGH Symposium 2019
URL;VALUE=URI:https://idigh.ca/en/events/info/scientific-events/idigh-symposium-2019
DTSTAMP:20260421T074338Z
UID:69e762eaf32f8
END:VEVENT
END:VCALENDAR