BEGIN:VCALENDAR
VERSION:2.0
PRODID:-//hacksw/handcal//NONSGML v1.0//EN
CALSCALE:GREGORIAN
BEGIN:VEVENT
LOCATION:EM1.3509
DESCRIPTION:	Characterization of the functional heterogeneity of the human FOXP3+ regulatory T cell population // More information: https://idigh.ca/en/events/info/trainee-and-staff-seminar-series/khalid-bin-dhuban
DTSTART:20161214T170000Z
DTEND:20161214T180000Z
SUMMARY:IDIGH (Trainee and Staff Seminar Series) - Khalid Bin Dhuban
URL;VALUE=URI:https://idigh.ca/en/events/info/trainee-and-staff-seminar-series/khalid-bin-dhuban
DTSTAMP:20260421T075453Z
UID:69e7658d138a6
END:VEVENT
END:VCALENDAR