BEGIN:VCALENDAR
VERSION:2.0
PRODID:-//hacksw/handcal//NONSGML v1.0//EN
CALSCALE:GREGORIAN
BEGIN:VEVENT
LOCATION:EM1.3509
DESCRIPTION:	Impact of protein tyrosine phosphatase on experimental cerebral malaria pathology // More information: https://idigh.ca/en/events/info/trainee-and-staff-seminar-series/kristin-van-den-ham
DTSTART:20160502T160000Z
DTEND:20160502T170000Z
SUMMARY:IDIGH (Trainee and Staff Seminar Series) - Kristin Van Den Ham
URL;VALUE=URI:https://idigh.ca/en/events/info/trainee-and-staff-seminar-series/kristin-van-den-ham
DTSTAMP:20260421T090142Z
UID:69e77536dabbf
END:VEVENT
END:VCALENDAR