BEGIN:VCALENDAR
VERSION:2.0
PRODID:-//hacksw/handcal//NONSGML v1.0//EN
CALSCALE:GREGORIAN
BEGIN:VEVENT
LOCATION:EM1.3509
DESCRIPTION:Evidence that the advent of agriculture shaped innate immune responses to pathogens in humans // More information: https://idigh.ca/en/events/info/trainee-and-staff-seminar-series/genelle-harrison
DTSTART:20170426T160000Z
DTEND:20170426T170000Z
SUMMARY:IDIGH (Trainee and Staff Seminar Series) - Genelle Harrison
URL;VALUE=URI:https://idigh.ca/en/events/info/trainee-and-staff-seminar-series/genelle-harrison
DTSTAMP:20260421T084845Z
UID:69e7722da306d
END:VEVENT
END:VCALENDAR