BEGIN:VCALENDAR
VERSION:2.0
PRODID:-//hacksw/handcal//NONSGML v1.0//EN
CALSCALE:GREGORIAN
BEGIN:VEVENT
LOCATION:EM1.3509
DESCRIPTION:Potential Roles of Vitamin D in Crohn’s Disease: From Epidemiology and Pathogenesis to Treatment and Prevention // Plus d'informations : https://idigh.ca/fr/evenements/info/seminaires-idigh/dr-ernest-seidman
DTSTART:20151202T170000Z
DTEND:20151202T180000Z
SUMMARY:IDIGH (Séminaires IDIGH) - Dr Ernest Seidman
URL;VALUE=URI:https://idigh.ca/fr/evenements/info/seminaires-idigh/dr-ernest-seidman
DTSTAMP:20260421T090906Z
UID:69e776f2f3d1c
END:VEVENT
END:VCALENDAR