BEGIN:VCALENDAR
VERSION:2.0
PRODID:-//hacksw/handcal//NONSGML v1.0//EN
CALSCALE:GREGORIAN
BEGIN:VEVENT
LOCATION:EM1.3509
DESCRIPTION:Molecular detection of malaria in the field: Applications for acute diagnosis\, clinical trials and surveillance // Plus d'informations : https://idigh.ca/fr/evenements/info/seminaires-idigh/dre-stephanie-yanow
DTSTART:20151125T170000Z
DTEND:20151125T180000Z
SUMMARY:IDIGH (Séminaires IDIGH) - Dre Stephanie Yanow
URL;VALUE=URI:https://idigh.ca/fr/evenements/info/seminaires-idigh/dre-stephanie-yanow
DTSTAMP:20260421T090013Z
UID:69e774dda5957
END:VEVENT
END:VCALENDAR