BEGIN:VCALENDAR
VERSION:2.0
PRODID:-//hacksw/handcal//NONSGML v1.0//EN
CALSCALE:GREGORIAN
BEGIN:VEVENT
LOCATION:EM1.3509
DESCRIPTION:Molecular detection of malaria in the field: Applications for acute diagnosis\, clinical trials and surveillance // More information: https://idigh.ca/en/events/info/idigh-seminars/dr-stephanie-yanow
DTSTART:20151125T170000Z
DTEND:20151125T180000Z
SUMMARY:IDIGH (IDIGH Seminars) - Dr. Stephanie Yanow
URL;VALUE=URI:https://idigh.ca/en/events/info/idigh-seminars/dr-stephanie-yanow
DTSTAMP:20260421T085938Z
UID:69e774ba9251c
END:VEVENT
END:VCALENDAR