BEGIN:VCALENDAR
VERSION:2.0
PRODID:-//hacksw/handcal//NONSGML v1.0//EN
CALSCALE:GREGORIAN
BEGIN:VEVENT
LOCATION:EM1.3509
DESCRIPTION:The Cross Canada Anaphylaxis Registry : The MCH and beyond // Plus d'informations : https://idigh.ca/fr/evenements/info/seminaires-idigh/dr-moshe-ben-shoshan
DTSTART:20151118T170000Z
DTEND:20151118T180000Z
SUMMARY:IDIGH (Séminaires IDIGH) - Dr Moshe Ben-Shoshan
URL;VALUE=URI:https://idigh.ca/fr/evenements/info/seminaires-idigh/dr-moshe-ben-shoshan
DTSTAMP:20260421T090358Z
UID:69e775be20707
END:VEVENT
END:VCALENDAR