BEGIN:VCALENDAR
VERSION:2.0
PRODID:-//hacksw/handcal//NONSGML v1.0//EN
CALSCALE:GREGORIAN
BEGIN:VEVENT
LOCATION:EM1.3509
DESCRIPTION:The Cross Canada Anaphylaxis Registry : The MCH and beyond // More information: https://idigh.ca/en/events/info/idigh-seminars/dr-moshe-ben-shoshan
DTSTART:20151118T170000Z
DTEND:20151118T180000Z
SUMMARY:IDIGH (IDIGH Seminars) - Dr. Moshe Ben-Shoshan 
URL;VALUE=URI:https://idigh.ca/en/events/info/idigh-seminars/dr-moshe-ben-shoshan
DTSTAMP:20260421T090650Z
UID:69e7766aa68d6
END:VEVENT
END:VCALENDAR