BEGIN:VCALENDAR
VERSION:2.0
PRODID:-//hacksw/handcal//NONSGML v1.0//EN
CALSCALE:GREGORIAN
BEGIN:VEVENT
LOCATION:EM1.3509
DESCRIPTION:Oxygen and Fungal Parthenogenesis: To Air or Not to Air?  // Plus d'informations : https://idigh.ca/fr/evenements/info/seminaires-idigh/dr-robert-a-cramer
DTSTART:20151021T160000Z
DTEND:20151021T170000Z
SUMMARY:IDIGH (Séminaires IDIGH) - Dr Robert A Cramer
URL;VALUE=URI:https://idigh.ca/fr/evenements/info/seminaires-idigh/dr-robert-a-cramer
DTSTAMP:20260421T043838Z
UID:69e7378e419e5
END:VEVENT
END:VCALENDAR