BEGIN:VCALENDAR
VERSION:2.0
PRODID:-//hacksw/handcal//NONSGML v1.0//EN
CALSCALE:GREGORIAN
BEGIN:VEVENT
LOCATION:EM1.3509
DESCRIPTION:Dynamics of Foxp3+ regulatory T cell function in health and disease // Plus d'informations : https://idigh.ca/fr/evenements/info/seminaires-idigh/dr-ciriaco-piccirillo
DTSTART:20161207T170000Z
DTEND:20161207T180000Z
SUMMARY:IDIGH (Séminaires IDIGH) - Dr Ciriaco Piccirillo
URL;VALUE=URI:https://idigh.ca/fr/evenements/info/seminaires-idigh/dr-ciriaco-piccirillo
DTSTAMP:20260421T080334Z
UID:69e76796c3cd6
END:VEVENT
END:VCALENDAR