BEGIN:VCALENDAR
VERSION:2.0
PRODID:-//hacksw/handcal//NONSGML v1.0//EN
CALSCALE:GREGORIAN
BEGIN:VEVENT
LOCATION:EM1.3509
DESCRIPTION:Dynamics of Foxp3+ regulatory T cell function in health and disease // More information: https://idigh.ca/en/events/info/idigh-seminars/dr-ciriaco-piccirillo
DTSTART:20161207T170000Z
DTEND:20161207T180000Z
SUMMARY:IDIGH (IDIGH Seminars) - Dr. Ciriaco Piccirillo
URL;VALUE=URI:https://idigh.ca/en/events/info/idigh-seminars/dr-ciriaco-piccirillo
DTSTAMP:20260421T074544Z
UID:69e763686607d
END:VEVENT
END:VCALENDAR