BEGIN:VCALENDAR
VERSION:2.0
PRODID:-//hacksw/handcal//NONSGML v1.0//EN
CALSCALE:GREGORIAN
BEGIN:VEVENT
LOCATION:EM1.3509
DESCRIPTION:HIV persistence and inflammation: Implication for HIV eradication strategy // More information: https://idigh.ca/en/events/info/idigh-seminars/dr-jean-pierre-routy-2016
DTSTART:20160127T170000Z
DTEND:20160127T180000Z
SUMMARY:IDIGH (IDIGH Seminars) - Dr. Jean-Pierre Routy
URL;VALUE=URI:https://idigh.ca/en/events/info/idigh-seminars/dr-jean-pierre-routy-2016
DTSTAMP:20260421T090358Z
UID:69e775be31a3b
END:VEVENT
END:VCALENDAR