BEGIN:VCALENDAR
VERSION:2.0
PRODID:-//hacksw/handcal//NONSGML v1.0//EN
CALSCALE:GREGORIAN
BEGIN:VEVENT
LOCATION:EM1.3509
DESCRIPTION:Bacterial persistence: two tales of Pseudomonas aeruginosa in chronic infections // Plus d'informations : https://idigh.ca/fr/evenements/info/seminaires-idigh/dr2-dao-nguyen
DTSTART:20171115T170000Z
DTEND:20171115T180000Z
SUMMARY:IDIGH (Séminaires IDIGH) - Dr. Dao Nguyen
URL;VALUE=URI:https://idigh.ca/fr/evenements/info/seminaires-idigh/dr2-dao-nguyen
DTSTAMP:20260421T062537Z
UID:69e750a18960d
END:VEVENT
END:VCALENDAR