BEGIN:VCALENDAR
VERSION:2.0
PRODID:-//hacksw/handcal//NONSGML v1.0//EN
CALSCALE:GREGORIAN
BEGIN:VEVENT
LOCATION:EM1.3509
DESCRIPTION:Bacterial persistence: two tales of Pseudomonas aeruginosa in chronic infections // More information: https://idigh.ca/en/events/info/idigh-seminars/dr-dao-nguyen
DTSTART:20171115T170000Z
DTEND:20171115T180000Z
SUMMARY:IDIGH (IDIGH Seminars) - Dr. Dao Nguyen
URL;VALUE=URI:https://idigh.ca/en/events/info/idigh-seminars/dr-dao-nguyen
DTSTAMP:20260419T105024Z
UID:69e4ebb05c775
END:VEVENT
END:VCALENDAR