BEGIN:VCALENDAR
VERSION:2.0
PRODID:-//hacksw/handcal//NONSGML v1.0//EN
CALSCALE:GREGORIAN
BEGIN:VEVENT
LOCATION:EM1.3509
DESCRIPTION:HIV-1 reservoirs in CD4 T cell subpopulations // More information: https://idigh.ca/en/events/info/idigh-seminars/dr-mathias-lichterfeld
DTSTART:20170111T170000Z
DTEND:20170111T180000Z
SUMMARY:IDIGH (IDIGH Seminars) - Dr. Mathias Lichterfeld
URL;VALUE=URI:https://idigh.ca/en/events/info/idigh-seminars/dr-mathias-lichterfeld
DTSTAMP:20260421T074118Z
UID:69e7625edafe8
END:VEVENT
END:VCALENDAR