BEGIN:VCALENDAR
VERSION:2.0
PRODID:-//hacksw/handcal//NONSGML v1.0//EN
CALSCALE:GREGORIAN
BEGIN:VEVENT
LOCATION:EM1.3509
DESCRIPTION:Assemblées de recherche IDIGH // Plus d'informations : https://idigh.ca/fr/evenements/info/seminaires-idigh/matthieu-allez
DTSTART:20260511T160000Z
DTEND:20260511T170000Z
SUMMARY:IDIGH (Séminaires IDIGH) - Matthieu Allez
URL;VALUE=URI:https://idigh.ca/fr/evenements/info/seminaires-idigh/matthieu-allez
DTSTAMP:20260419T143533Z
UID:69e52075e1e81
END:VEVENT
END:VCALENDAR