BEGIN:VCALENDAR
VERSION:2.0
PRODID:-//hacksw/handcal//NONSGML v1.0//EN
CALSCALE:GREGORIAN
BEGIN:VEVENT
LOCATION:EM1.3509
DESCRIPTION:IDIGH Research Townhall // More information: https://idigh.ca/en/events/info/idigh-seminars/matthieu-allez
DTSTART:20260511T160000Z
DTEND:20260511T170000Z
SUMMARY:IDIGH (IDIGH Seminars) - Matthieu Allez
URL;VALUE=URI:https://idigh.ca/en/events/info/idigh-seminars/matthieu-allez
DTSTAMP:20260419T144104Z
UID:69e521c098e85
END:VEVENT
END:VCALENDAR