BEGIN:VCALENDAR
VERSION:2.0
PRODID:-//hacksw/handcal//NONSGML v1.0//EN
CALSCALE:GREGORIAN
BEGIN:VEVENT
LOCATION:EM1.3509
DESCRIPTION:From IPC to PERL: Surveillance and Research on Endemic and Emerging Arboviruses and Zoonotic Viruses // More information: https://idigh.ca/en/events/info/idigh-seminars/veasna-duong
DTSTART:20260402T160000Z
DTEND:20260402T170000Z
SUMMARY:IDIGH (IDIGH Seminars) - Veasna Duong
URL;VALUE=URI:https://idigh.ca/en/events/info/idigh-seminars/veasna-duong
DTSTAMP:20260419T143528Z
UID:69e5207006eba
END:VEVENT
END:VCALENDAR