BEGIN:VCALENDAR
VERSION:2.0
PRODID:-//hacksw/handcal//NONSGML v1.0//EN
CALSCALE:GREGORIAN
BEGIN:VEVENT
LOCATION:EM1.3509
DESCRIPTION:De l'IPC au PERL : surveillance et recherche sur les arbovirus endémiques et émergents et les virus zoonotiques // Plus d'informations : https://idigh.ca/fr/evenements/info/seminaires-idigh/veasna-duong
DTSTART:20260402T160000Z
DTEND:20260402T170000Z
SUMMARY:IDIGH (Séminaires IDIGH) - Veasna Duong
URL;VALUE=URI:https://idigh.ca/fr/evenements/info/seminaires-idigh/veasna-duong
DTSTAMP:20260419T143533Z
UID:69e52075bc35b
END:VEVENT
END:VCALENDAR