BEGIN:VCALENDAR
VERSION:2.0
PRODID:-//hacksw/handcal//NONSGML v1.0//EN
CALSCALE:GREGORIAN
BEGIN:VEVENT
LOCATION:Amphithéâtre Drs Sylvia et Richard Cruess (ES1.1129)
DESCRIPTION: // Plus d'informations : https://idigh.ca/fr/evenements/info/evenements-scientifiques/journee-de-la-recherche-2026
DTSTART:20260428T123000Z
DTEND:20260428T220000Z
SUMMARY:IDIGH (Événements scientifiques) - Journée de la recherche 2026
URL;VALUE=URI:https://idigh.ca/fr/evenements/info/evenements-scientifiques/journee-de-la-recherche-2026
DTSTAMP:20260422T210840Z
UID:69e97118781a6
END:VEVENT
END:VCALENDAR