BEGIN:VCALENDAR
VERSION:2.0
PRODID:-//hacksw/handcal//NONSGML v1.0//EN
CALSCALE:GREGORIAN
BEGIN:VEVENT
LOCATION:EM1.3509 et en ligne
DESCRIPTION:Dérégulation de l'immunité ISG15 par les enzymes de déconjugation du coronavirus // Plus d'informations : https://idigh.ca/fr/evenements/info/seminaires-idigh/leo-liu
DTSTART:20251204T170000Z
DTEND:20251204T180000Z
SUMMARY:IDIGH (Séminaires IDIGH) - Leo Liu
URL;VALUE=URI:https://idigh.ca/fr/evenements/info/seminaires-idigh/leo-liu
DTSTAMP:20260424T142640Z
UID:69ebb5e00c2ff
END:VEVENT
END:VCALENDAR