BEGIN:VCALENDAR
VERSION:2.0
PRODID:-//hacksw/handcal//NONSGML v1.0//EN
CALSCALE:GREGORIAN
BEGIN:VEVENT
LOCATION:EM1.3509 and online
DESCRIPTION:Dysregulation of ISG15 Immunity by Coronaviral Deconjugating Enzymes // More information: https://idigh.ca/en/events/info/idigh-seminars/leo-liu
DTSTART:20251204T170000Z
DTEND:20251204T180000Z
SUMMARY:IDIGH (IDIGH Seminars) - Leo Liu
URL;VALUE=URI:https://idigh.ca/en/events/info/idigh-seminars/leo-liu
DTSTAMP:20260424T125007Z
UID:69eb9f3f4c1ae
END:VEVENT
END:VCALENDAR