BEGIN:VCALENDAR
VERSION:2.0
PRODID:-//hacksw/handcal//NONSGML v1.0//EN
CALSCALE:GREGORIAN
BEGIN:VEVENT
LOCATION:Drs. Sylvia and Richard Cruess Amphitheatre (ES1.1129)
DESCRIPTION: More information: https://idigh.ca/en/events/info/scientific-events/research-day-2026
DTSTART:20260428T123000Z
DTEND:20260428T220000Z
SUMMARY:IDIGH (Scientific Events) - Research Day 2026
URL;VALUE=URI:https://idigh.ca/en/events/info/scientific-events/research-day-2026
DTSTAMP:20260421T045049Z
UID:69e73a697ddea
END:VEVENT
BEGIN:VEVENT
LOCATION:Elspeth McConnell Atrium
DESCRIPTION:The event is open to all RI-MUHC members. More information: https://idigh.ca/en/events/info/scientific-events/vendor-show-at-the-10th-annual-idigh-research-day
DTSTART:20260428T140000Z
DTEND:20260428T190000Z
SUMMARY:IDIGH (Scientific Events) - Vendor Show at the 10th Annual IDIGH Research Day
URL;VALUE=URI:https://idigh.ca/en/events/info/scientific-events/vendor-show-at-the-10th-annual-idigh-research-day
DTSTAMP:20260421T045049Z
UID:69e73a697de65
END:VEVENT
BEGIN:VEVENT
LOCATION:EM1.3509
DESCRIPTION:IDIGH Research Townhall More information: https://idigh.ca/en/events/info/idigh-seminars/nadine-kronfli
DTSTART:20260521T160000Z
DTEND:20260521T170000Z
SUMMARY:IDIGH (IDIGH Seminars) - Nadine Kronfli
URL;VALUE=URI:https://idigh.ca/en/events/info/idigh-seminars/nadine-kronfli
DTSTAMP:20260421T045049Z
UID:69e73a697df05
END:VEVENT
BEGIN:VEVENT
LOCATION:EM1.3509
DESCRIPTION:IDIGH Research Townhall More information: https://idigh.ca/en/events/info/idigh-seminars/matthieu-allez
DTSTART:20260511T160000Z
DTEND:20260511T170000Z
SUMMARY:IDIGH (IDIGH Seminars) - Matthieu Allez
URL;VALUE=URI:https://idigh.ca/en/events/info/idigh-seminars/matthieu-allez
DTSTAMP:20260421T045049Z
UID:69e73a697df5c
END:VEVENT
BEGIN:VEVENT
LOCATION:EM1.3509
DESCRIPTION:IDIGH Research Townhall More information: https://idigh.ca/en/events/info/idigh-seminars/ines-colmegna
DTSTART:20260422T160000Z
DTEND:20260422T170000Z
SUMMARY:IDIGH (IDIGH Seminars) - Inés Colmegna
URL;VALUE=URI:https://idigh.ca/en/events/info/idigh-seminars/ines-colmegna
DTSTAMP:20260421T045049Z
UID:69e73a697dfbd
END:VEVENT
END:VCALENDAR
